BEGIN:VCALENDAR
VERSION:2.0
PRODID:-//Stadtsportbund Hagen - ECPv6.15.20//NONSGML v1.0//EN
CALSCALE:GREGORIAN
METHOD:PUBLISH
X-WR-CALNAME:Stadtsportbund Hagen
X-ORIGINAL-URL:https://ssb-hagen.de
X-WR-CALDESC:Veranstaltungen für Stadtsportbund Hagen
REFRESH-INTERVAL;VALUE=DURATION:PT1H
X-Robots-Tag:noindex
X-PUBLISHED-TTL:PT1H
BEGIN:VTIMEZONE
TZID:UTC
BEGIN:STANDARD
TZOFFSETFROM:+0000
TZOFFSETTO:+0000
TZNAME:UTC
DTSTART:20250101T000000
END:STANDARD
END:VTIMEZONE
BEGIN:VEVENT
DTSTART;VALUE=DATE:20260623
DTEND;VALUE=DATE:20260626
DTSTAMP:20260425T121120
CREATED:20260219T053635Z
LAST-MODIFIED:20260319T142252Z
UID:8608-1782172800-1782431999@ssb-hagen.de
SUMMARY:Rüdesheim am Rhein
DESCRIPTION:
URL:https://ssb-hagen.de/index.php/termin/ruedesheim-am-rhein/
ATTACH;FMTTYPE=image/jpeg:https://ssb-hagen.de/wp-content/uploads/2026/03/ruedesheim.jpg
END:VEVENT
BEGIN:VEVENT
DTSTART;VALUE=DATE:20260627
DTEND;VALUE=DATE:20260628
DTSTAMP:20260425T121120
CREATED:20260316T051723Z
LAST-MODIFIED:20260316T051723Z
UID:8716-1782518400-1782604799@ssb-hagen.de
SUMMARY:Canadier-Regatta
DESCRIPTION:Am Samstag\, den 27.06.2026 ab 13 Uhr veranstaltet der Hohenlimburger Kanu-Verein e.V. seine 27. Canadier-Regatta.\nOrt: Vereinsgelände des Hohenlimburger Kanu-Vereins\, Ruhrtalstr. 10 in 58099 Hagen
URL:https://ssb-hagen.de/index.php/termin/canadier-regatta/
ATTACH;FMTTYPE=image/jpeg:https://ssb-hagen.de/wp-content/uploads/2026/03/IMG_3922-1.jpg
END:VEVENT
BEGIN:VEVENT
DTSTART;VALUE=DATE:20260720
DTEND;VALUE=DATE:20260726
DTSTAMP:20260425T121120
CREATED:20260219T053427Z
LAST-MODIFIED:20260219T053427Z
UID:8607-1784505600-1785023999@ssb-hagen.de
SUMMARY:Inselfreizeit Sylt
DESCRIPTION:
URL:https://ssb-hagen.de/index.php/termin/inselfreizeit-sylt/
ATTACH;FMTTYPE=image/png:https://ssb-hagen.de/wp-content/uploads/2025/02/Logo_SSB_Hagen-frei.png
END:VEVENT
END:VCALENDAR